BEGIN:VCALENDAR
VERSION:2.0
PRODID:-//Samaritains Lausanne Mixte | Samaritains Vaud - ECPv6.15.17.1//NONSGML v1.0//EN
CALSCALE:GREGORIAN
METHOD:PUBLISH
X-WR-CALNAME:Samaritains Lausanne Mixte | Samaritains Vaud
X-ORIGINAL-URL:https://www.lausanne-mixte.ch
X-WR-CALDESC:Évènements pour Samaritains Lausanne Mixte | Samaritains Vaud
REFRESH-INTERVAL;VALUE=DURATION:PT1H
X-Robots-Tag:noindex
X-PUBLISHED-TTL:PT1H
BEGIN:VTIMEZONE
TZID:Europe/Zurich
BEGIN:DAYLIGHT
TZOFFSETFROM:+0100
TZOFFSETTO:+0200
TZNAME:CEST
DTSTART:20250330T010000
END:DAYLIGHT
BEGIN:STANDARD
TZOFFSETFROM:+0200
TZOFFSETTO:+0100
TZNAME:CET
DTSTART:20251026T010000
END:STANDARD
BEGIN:DAYLIGHT
TZOFFSETFROM:+0100
TZOFFSETTO:+0200
TZNAME:CEST
DTSTART:20260329T010000
END:DAYLIGHT
BEGIN:STANDARD
TZOFFSETFROM:+0200
TZOFFSETTO:+0100
TZNAME:CET
DTSTART:20261025T010000
END:STANDARD
BEGIN:DAYLIGHT
TZOFFSETFROM:+0100
TZOFFSETTO:+0200
TZNAME:CEST
DTSTART:20270328T010000
END:DAYLIGHT
BEGIN:STANDARD
TZOFFSETFROM:+0200
TZOFFSETTO:+0100
TZNAME:CET
DTSTART:20271031T010000
END:STANDARD
END:VTIMEZONE
BEGIN:VEVENT
DTSTART;TZID=Europe/Zurich:20260521T194500
DTEND;TZID=Europe/Zurich:20260521T221500
DTSTAMP:20260424T154734
CREATED:20251224T112646Z
LAST-MODIFIED:20251224T113250Z
UID:29588-1779392700-1779401700@www.lausanne-mixte.ch
SUMMARY:Formation - Hémorragie
DESCRIPTION:Ceci est un exercice reservé aux membres de notre section de samaritains.\nEnvie de nous rejoindre? Devenez membre! Contactez la Commission Technique (ct@lausanne-mixte.ch). Plus d’information: https://www.lausanne-mixte.ch/lausanne-mixte/#devenir-membre
URL:https://www.lausanne-mixte.ch/event/formation-hemorragie/
LOCATION:Collège d’Entre-Bois\, Chemin d'Entre-Bois 13b\, Lausanne\, 1018\, Switzerland
CATEGORIES:Exercices
END:VEVENT
BEGIN:VEVENT
DTSTART;TZID=Europe/Zurich:20260616T194500
DTEND;TZID=Europe/Zurich:20260616T221500
DTSTAMP:20260424T154734
CREATED:20251224T112646Z
LAST-MODIFIED:20251224T112646Z
UID:29589-1781639100-1781648100@www.lausanne-mixte.ch
SUMMARY:Formation - Transmission / Pbm de communication
DESCRIPTION:Ceci est un exercice reservé aux membres de notre section de samaritains.\nEnvie de nous rejoindre? Devenez membre! Contactez la Commission Technique (ct@lausanne-mixte.ch). Plus d’information: https://www.lausanne-mixte.ch/lausanne-mixte/#devenir-membre
URL:https://www.lausanne-mixte.ch/event/formation-transmission-pbm-de-communication/
LOCATION:Petit train de Vidy\, Place de la Fontaine de Cuivre\, Lausanne\, 1007\, Switzerland
CATEGORIES:Exercices
END:VEVENT
BEGIN:VEVENT
DTSTART;TZID=Europe/Zurich:20260903T194500
DTEND;TZID=Europe/Zurich:20260903T221500
DTSTAMP:20260424T154734
CREATED:20251224T112646Z
LAST-MODIFIED:20251224T113136Z
UID:29590-1788464700-1788473700@www.lausanne-mixte.ch
SUMMARY:Formation - TCC
DESCRIPTION:Ceci est un exercice reservé aux membres de notre section de samaritains.\nEnvie de nous rejoindre? Devenez membre! Contactez la Commission Technique (ct@lausanne-mixte.ch). Plus d’information: https://www.lausanne-mixte.ch/lausanne-mixte/#devenir-membre
URL:https://www.lausanne-mixte.ch/event/formation-tcc/
LOCATION:Parc de Milan
CATEGORIES:Exercices
END:VEVENT
BEGIN:VEVENT
DTSTART;TZID=Europe/Zurich:20261005T194500
DTEND;TZID=Europe/Zurich:20261005T221500
DTSTAMP:20260424T154734
CREATED:20251224T112648Z
LAST-MODIFIED:20251224T113046Z
UID:29591-1791229500-1791238500@www.lausanne-mixte.ch
SUMMARY:Formation - Accidents
DESCRIPTION:Ceci est un exercice reservé aux membres de notre section de samaritains.\nEnvie de nous rejoindre? Devenez membre! Contactez la Commission Technique (ct@lausanne-mixte.ch). Plus d’information: https://www.lausanne-mixte.ch/lausanne-mixte/#devenir-membre
URL:https://www.lausanne-mixte.ch/event/formation-accidents/
LOCATION:ETML – Ecole technique – Ecole des métiers de Lausanne\, Rue de Sébeillon 12\, Lausanne\, 1004
CATEGORIES:Exercices
END:VEVENT
BEGIN:VEVENT
DTSTART;TZID=Europe/Zurich:20261109T194500
DTEND;TZID=Europe/Zurich:20261109T221500
DTSTAMP:20260424T154734
CREATED:20251224T112648Z
LAST-MODIFIED:20251224T112648Z
UID:29592-1794253500-1794262500@www.lausanne-mixte.ch
SUMMARY:Formation - MISV BLS-AED
DESCRIPTION:Ceci est un exercice reservé aux membres de notre section de samaritains.\nEnvie de nous rejoindre? Devenez membre! Contactez la Commission Technique (ct@lausanne-mixte.ch). Plus d’information: https://www.lausanne-mixte.ch/lausanne-mixte/#devenir-membre
URL:https://www.lausanne-mixte.ch/event/formation-misv-bls-aed/
LOCATION:Collège d’Entre-Bois\, Chemin d'Entre-Bois 13b\, Lausanne\, 1018\, Switzerland
CATEGORIES:Exercices
END:VEVENT
BEGIN:VEVENT
DTSTART;TZID=Europe/Zurich:20261201T194500
DTEND;TZID=Europe/Zurich:20261201T221500
DTSTAMP:20260424T154734
CREATED:20251224T112648Z
LAST-MODIFIED:20251224T112800Z
UID:29593-1796154300-1796163300@www.lausanne-mixte.ch
SUMMARY:Formation - Fin d’année exercice de Noël
DESCRIPTION:Ceci est un exercice reservé aux membres de notre section de samaritains.\nEnvie de nous rejoindre? Devenez membre! Contactez la Commission Technique (ct@lausanne-mixte.ch). Plus d’information: https://www.lausanne-mixte.ch/lausanne-mixte/#devenir-membre
URL:https://www.lausanne-mixte.ch/event/formation-exercice-de-noel/
LOCATION:Collège d’Entre-Bois\, Chemin d'Entre-Bois 13b\, Lausanne\, 1018\, Switzerland
CATEGORIES:Exercices
END:VEVENT
END:VCALENDAR